BEGIN:VCALENDAR
VERSION:2.0
PRODID:-//HANEN - ECPv4.3.2//NONSGML v1.0//EN
CALSCALE:GREGORIAN
METHOD:PUBLISH
X-WR-CALNAME:HANEN
X-ORIGINAL-URL:https://medlem.hanen.no
X-WR-CALDESC:Events for HANEN
BEGIN:VEVENT
DTSTART;VALUE=DATE:20160828
DTEND;VALUE=DATE:20160828
DTSTAMP:20260421T084132
CREATED:20160824T110220Z
LAST-MODIFIED:20160824T125144Z
UID:16667-1472342400-1472428799@medlem.hanen.no
SUMMARY:Åpen Gård på Fannremsgarden
DESCRIPTION:På søndag er det bondelaget som preger aktivitetene på gården med blant annet kalvemønstring\, utstilling av landbruksmaskiner på jordet\, hopping i høyet\, hesteskokasting og servering av kaffe fra "svartkjel" i skogeierlagets regi.\n\n \n\nMat blir det rikelig av med blant annet servering av restauranten Credo\, bygdekvinnelaget\, 4 H og Tine. På gården er det høner\, haner\, kalver\, kyr\, sauer\, en hest med føll og katter.\n\nButikken på gården blir åpen\, og det blir salg av egenprodusert smør og rømme samt ost fra Grindal ysteri.\n\nLes mer
URL:https://medlem.hanen.no/arrangement/apen-gard-pa-fannremsgarden/
LOCATION:Orkdalsvegen 543\, Fannrem\, 7320 
GEO:63.2680891;9.81891
X-APPLE-STRUCTURED-LOCATION;VALUE=URI;X-ADDRESS=Orkdalsvegen 543 Fannrem 7320;X-APPLE-RADIUS=500;X-TITLE=Orkdalsvegen 543:geo:9.81891,63.2680891
CATEGORIES:Sør-Trøndelag
ATTACH;FMTTYPE=image/jpeg:https://medlem.hanen.no/wp-content/uploads/2016/08/åpen-gård.jpg
ORGANIZER;CN="Reinhekla":MAILTO:jon.fredrik.skauge@reinhekla.no
END:VEVENT
END:VCALENDAR