BEGIN:VCALENDAR
VERSION:2.0
PRODID:-//HANEN - ECPv4.3.2//NONSGML v1.0//EN
CALSCALE:GREGORIAN
METHOD:PUBLISH
X-WR-CALNAME:HANEN
X-ORIGINAL-URL:https://medlem.hanen.no
X-WR-CALDESC:Events for HANEN
BEGIN:VEVENT
DTSTART;TZID=Europe/Oslo:20160827T120000
DTEND;TZID=Europe/Oslo:20160827T150000
DTSTAMP:20260421T095255
CREATED:20160819T083711Z
LAST-MODIFIED:20160819T083711Z
UID:16631-1472299200-1472310000@medlem.hanen.no
SUMMARY:Åpen Gård
DESCRIPTION:27. August inviterer vi alle stor og små til åpen gård hos oss på Bønes Gård. Alle sauene er ikke kommet ned i fra beitet enda\, men flaskelammene er veldig giret på besøk. I tillegg blir det mulighet til å hilse på både høns\, hester med mer. Det blir også som tidligere en Bønes rebus hvor man har mulighet til å stikke av med en gjev premie. Det er gratis å delta.\nVi får besøk av noen fine hester og hestefolk som vil arrangere rideturer\, dette vil koste en peng.\n\nDet er et gratis arrangement\, men det blir salg av både mat og drikke\, både kald og varm. Ønsker man å ta med medbrakt\, er dette også selvsagt helt i orden. Det er begrenset med sitteplasser\, så har man mulighet så byr Bønes Gård på mange fine "piknikk" muligheter om man tar med teppe eller sitteunderlag.\nDet er også begrenset med parkeringsmuligheter\, så vi oppfordrer de som kan til å benytte seg av kollektiv transport. Buss 51 passerer rett ved gården og går mellom Birkelandskrysset og sentrum. Vi oppfordrer de som må kjøre til å ikke parkere på gårdstunet\, det er en stor parkeringsplass på Kyrkjetangen som er 5-10 minutters rolig gange i landlige omgivelser i fra oss. Det vil bli skiltet så godt det lar seg gjøre på selve dagen.\n\nHar man spørsmål om arrangementet eller har noen spesielle behov(som feks handicapparkering)som vi kanskje kan hjelpe med\, så er det bare til å ta kontakt på Facebook eller på telefon 55916844/92655722.\n\n(I gårdsbutikken vår og salg av mat og drikke utenfor vil det være muligheter for å betale med kort\, ridingen er kun kontant)
URL:https://medlem.hanen.no/arrangement/apen-gard-2/
LOCATION: Bønesstranden 50\, BØNES\, 5155 \, Norge
GEO:60.3242285;5.2924315
X-APPLE-STRUCTURED-LOCATION;VALUE=URI;X-ADDRESS=Bønesstranden 50 BØNES 5155  Norge;X-APPLE-RADIUS=500;X-TITLE=Bønesstranden 50:geo:5.2924315,60.3242285
CATEGORIES:Hordaland
ATTACH;FMTTYPE=image/jpeg:https://medlem.hanen.no/wp-content/uploads/2016/08/bønes.jpg
ORGANIZER;CN="B%C3%B8nes%20G%C3%A5rdsmat":MAILTO:ruboen@online.no
END:VEVENT
END:VCALENDAR