BEGIN:VCALENDAR
VERSION:2.0
PRODID:-//HANEN - ECPv4.3.2//NONSGML v1.0//EN
CALSCALE:GREGORIAN
METHOD:PUBLISH
X-WR-CALNAME:HANEN
X-ORIGINAL-URL:https://medlem.hanen.no
X-WR-CALDESC:Events for HANEN
BEGIN:VEVENT
DTSTART;TZID=Europe/Oslo:20160918T110000
DTEND;TZID=Europe/Oslo:20160918T150000
DTSTAMP:20260421T095318
CREATED:20160818T124932Z
LAST-MODIFIED:20160818T124932Z
UID:16589-1474196400-1474210800@medlem.hanen.no
SUMMARY:Åpen dag
DESCRIPTION:Sett av søndag 18. september fra 11- 15.\nI år igjen ønsker vi velkommen til Åpen dag her på Hvam. Elever og ansatte viser fram skolens allsidighet\, og tilbyr aktiviteter og show for store og små.\nHer er noen av våre aktiviteter:\n\n \tSmiing og snekring for barna\n \tHoppe i høyet\, leke i halmlabyrinten\n \tBarneridning og kjøring av hest og vogn\n \tMøte kuer\, sauer\, hester\, kaniner og hunder\n \tBueskyting og andre idrettsaktiviteter\n \tKlatre i klatrevegg\n \tGolfsimulator\n \t"Fun-ballz" på dammen\n \tSalg av egenprodusert grønnsaker\n \tÅpen gårdsbutikk med lokal mat og drikke\n \tÅpen grill\, salg av rømmegrøt og Hvamsgryte\n \tOg mye mer :-)\n\n \n\nVi åpner salgsboder rundt på området der du kan kjøpe ting som elevene har laget - og det er servering av kjøkkensjefens deilige Hvamsgryte\, tradisjonell rømmegrøt\, lokalmat på grillen i gårdsbutikken og ellers kaffe\, vafler\, kaker og is.\n\nSe gjerne vår hjemmeside for mer info: www.hvam.vgs.no\n\nhttps://www.youtube.com/watch?v=3cr4CxP-U68&feature=player_embedded
URL:https://medlem.hanen.no/arrangement/apen-dag-6/
LOCATION:Hvamsalléen\, Hvam\, 2165\, Norge
GEO:60.1042348;11.3781621
X-APPLE-STRUCTURED-LOCATION;VALUE=URI;X-ADDRESS=Hvamsalléen Hvam 2165 Norge;X-APPLE-RADIUS=500;X-TITLE=Hvamsalléen:geo:11.3781621,60.1042348
CATEGORIES:Akershus
ATTACH;FMTTYPE=image/jpeg:https://medlem.hanen.no/wp-content/uploads/2016/08/a9kxhels0friqcbnnzfq.jpg
END:VEVENT
END:VCALENDAR