BEGIN:VCALENDAR
VERSION:2.0
PRODID:-//HANEN - ECPv4.3.2//NONSGML v1.0//EN
CALSCALE:GREGORIAN
METHOD:PUBLISH
X-WR-CALNAME:HANEN
X-ORIGINAL-URL:https://medlem.hanen.no
X-WR-CALDESC:Events for HANEN
BEGIN:VEVENT
DTSTART;TZID=Europe/Oslo:20150620T120000
DTEND;TZID=Europe/Oslo:20150621T170000
DTSTAMP:20260420T095911
CREATED:20150615T140035Z
LAST-MODIFIED:20150615T140035Z
UID:12448-1434801600-1434906000@medlem.hanen.no
SUMMARY:Åpen dag
DESCRIPTION:Velkommen til Gransjøberget Sæter og åpen dag lørdag 20. og søndag 21. juni. Begge dagene har vi oppe fra kl 12-17. Lørdag serveres pizza fra bakerovnen\, og søndag har vi våre egne pølser i brød. Begge dager serveres rømmegrøt\, kaffe og kringle m.m. Ta gjerne sykkelen eller beina fatt\, eller kjør helt frem.\nNB: kun kontanter.
URL:https://medlem.hanen.no/arrangement/apen-dag-4/
LOCATION:Gransjøberget\, Elverum\, Norge
GEO:61.1451242;11.6852561
X-APPLE-STRUCTURED-LOCATION;VALUE=URI;X-ADDRESS=Gransjøberget Elverum Norge;X-APPLE-RADIUS=500;X-TITLE=Gransjøberget:geo:11.6852561,61.1451242
CATEGORIES:Hedmark
ATTACH;FMTTYPE=image/jpeg:https://medlem.hanen.no/wp-content/uploads/2015/06/11401031_927324527318813_6964548702708722937_n.jpg
END:VEVENT
END:VCALENDAR