BEGIN:VCALENDAR
VERSION:2.0
PRODID:-//HANEN - ECPv4.3.2//NONSGML v1.0//EN
CALSCALE:GREGORIAN
METHOD:PUBLISH
X-WR-CALNAME:HANEN
X-ORIGINAL-URL:https://medlem.hanen.no
X-WR-CALDESC:Events for HANEN
BEGIN:VEVENT
DTSTART;VALUE=DATE:20170723
DTEND;VALUE=DATE:20170728
DTSTAMP:20260421T085214
CREATED:20170106T131538Z
LAST-MODIFIED:20170106T131538Z
UID:17683-1500768000-1501286399@medlem.hanen.no
SUMMARY:Aktivitetsleir
DESCRIPTION:Denne leiren er for barn i alder 9 - 16 år og vi kan invitere til dager fulle av aktiviteter fra morgen til kveld. Det blir ridning hver dag med både baneridning og turer i fjellet. Du blir også med på stell av de andre dyrene.\n\nMer info
URL:https://medlem.hanen.no/arrangement/aktivitetsleir/
LOCATION:Tunhov\, Nesbyen\, 3540
GEO:60.4610728;8.7633544
X-APPLE-STRUCTURED-LOCATION;VALUE=URI;X-ADDRESS=Tunhov Nesbyen 3540;X-APPLE-RADIUS=500;X-TITLE=Tunhov:geo:8.7633544,60.4610728
CATEGORIES:Buskerud
ATTACH;FMTTYPE=image/jpeg:https://medlem.hanen.no/wp-content/uploads/2017/01/aktivitet.jpg
ORGANIZER;CN="Langedrag%20Naturpark":MAILTO:tuva@langedrag.no
END:VEVENT
END:VCALENDAR