BEGIN:VCALENDAR
VERSION:2.0
PRODID:-//HANEN - ECPv4.3.2//NONSGML v1.0//EN
CALSCALE:GREGORIAN
METHOD:PUBLISH
X-WR-CALNAME:HANEN
X-ORIGINAL-URL:https://medlem.hanen.no
X-WR-CALDESC:Events for HANEN
BEGIN:VEVENT
DTSTART;TZID=Europe/Oslo:20151005T173000
DTEND;TZID=Europe/Oslo:20151123T210000
DTSTAMP:20260420T100115
CREATED:20150828T080321Z
LAST-MODIFIED:20150901T101932Z
UID:12848-1444066200-1448312400@medlem.hanen.no
SUMMARY:8-ukerskurs i mindfulness\, MBSR. Hvordan bli mer tilstede i livet ditt og forebygge stress?
DESCRIPTION:Kurset er en intensiv trening og prosess i mindfulness - å være tilstede i det som ér\, fullt og helt\, i alle livets øyeblikk. Kurset er basert på den vitenskaplige og godt dokumenterte metoden MBSR (mindfulness based stress reduction).\n\nI 8-uker vil du trene deg i å leve i det som er\, i hvert enkelt øyeblikk. Frigjøre deg fra bånd fra fortiden og bekymringer for fremtiden. Du vil kunne oppleve nye muligheter til å leve og handle slik du dypest sett ønsker. I løpet av kurset vil du lære deg å benytte ulike metoder som du kan bruke resten av livet. Det handler om å være mer tilstede i livet\, øke livsgleden\, redusere stress og fremme god helse.\n\nTid: Hver mandag fra 5.10 til 23.11 fra kl. 18.30-21.00.\n\nI tillegg dagskurs 14.11 fra kl. 10-17.\n\nPris: kr. 4 900\,- (betales inn på konto 1503.38.70741 innen 15. sept. 2015)\nPåmelding: post@sukkegard.no\nKursleder: Espen Klaseie. Sertifisert kursleder med mange års erfaring.
URL:https://medlem.hanen.no/arrangement/8-ukerskurs-i-mindfulness/
LOCATION:Kjønnerødveien 251\, Ramnes i Vestfold\, Ramnes\, 3175\, Norge
GEO:59.3849681;10.2021372
X-APPLE-STRUCTURED-LOCATION;VALUE=URI;X-ADDRESS=Kjønnerødveien 251 Ramnes i Vestfold Ramnes 3175 Norge;X-APPLE-RADIUS=500;X-TITLE=Kjønnerødveien 251:geo:10.2021372,59.3849681
CATEGORIES:Vestfold
ATTACH;FMTTYPE=image/jpeg:https://medlem.hanen.no/wp-content/uploads/2015/08/11953069_998441163520040_6005618064601227089_n.jpg
ORGANIZER;CN="%C3%98vre%20Sukke%20G%C3%A5rd":MAILTO:post@sukkegard.no
END:VEVENT
END:VCALENDAR