BEGIN:VCALENDAR
VERSION:2.0
PRODID:-//HANEN - ECPv4.3.2//NONSGML v1.0//EN
CALSCALE:GREGORIAN
METHOD:PUBLISH
X-WR-CALNAME:HANEN
X-ORIGINAL-URL:https://medlem.hanen.no
X-WR-CALDESC:Events for HANEN
BEGIN:VEVENT
DTSTART;VALUE=DATE:20150517
DTEND;VALUE=DATE:20150517
DTSTAMP:20260420T095231
CREATED:20150511T090526Z
LAST-MODIFIED:20150511T090526Z
UID:12077-1431820800-1431907199@medlem.hanen.no
SUMMARY:17. mai på Store Ringheim
DESCRIPTION:Me vonar på ein skikkeleg fin 17. mai med sol\, bunad\, badnatog\, kjentsfolk og mykje is\, brus og sjokolade. Deretter skøy for ungane på skuleplassane rundt omkring i grendene.\n\nDeretter folkens\, om de framleis har krefter att\, passar det fint med ein god\, avslappande middag på Store Ringheim. Me har ikkje noko spesiell meny for dagen\, men den nye sommarmenyen vår er både spanande og god.\n\nMe har ope frå fem eller litt før om de ynskjer det.\n\nRing og ting på mob: 954 06 135 eller e-post: post@storeringheim.no\n\nHa ein fin 17.mai!
URL:https://medlem.hanen.no/arrangement/17-mai-pa-store-ringheim/
LOCATION:Mølstervegen 44\, Voss \, 5705
GEO:60.6380256;6.4275382
X-APPLE-STRUCTURED-LOCATION;VALUE=URI;X-ADDRESS=Mølstervegen 44 Voss  5705;X-APPLE-RADIUS=500;X-TITLE=Mølstervegen 44:geo:6.4275382,60.6380256
CATEGORIES:Hordaland
ATTACH;FMTTYPE=image/jpeg:https://medlem.hanen.no/wp-content/uploads/2015/05/17-mai-voss.jpg
END:VEVENT
END:VCALENDAR