BEGIN:VCALENDAR
VERSION:2.0
PRODID:-//HANEN - ECPv4.3.2//NONSGML v1.0//EN
CALSCALE:GREGORIAN
METHOD:PUBLISH
X-WR-CALNAME:HANEN
X-ORIGINAL-URL:https://medlem.hanen.no
X-WR-CALDESC:Events for HANEN
BEGIN:VEVENT
DTSTART;VALUE=DATE:20150517
DTEND;VALUE=DATE:20150517
DTSTAMP:20260420T083851
CREATED:20150504T095502Z
LAST-MODIFIED:20150504T095502Z
UID:2500-1431820800-1431907199@medlem.hanen.no
SUMMARY:17. mai - buffé på låven
DESCRIPTION:Vi åpner låvedørene for de som måtte ønske et festmåltid på nasjonaldagen.\n17.mai - buffé med varme og kalde retter\, desserter\, hjemmelaget is og kakebord!\nBordsetning kl. 14 og kl. 16\n\n Bordbestilling: info@bamsrudlaven.no
URL:https://medlem.hanen.no/arrangement/17-mai-buffe-pa-laven/
LOCATION:Bamsrudveien57\, Mysen\, Østfold\, 1850\, Norge
GEO:59.5474177;11.366871
X-APPLE-STRUCTURED-LOCATION;VALUE=URI;X-ADDRESS=Bamsrudveien57 Mysen Østfold 1850 Norge;X-APPLE-RADIUS=500;X-TITLE=Bamsrudveien57:geo:11.366871,59.5474177
CATEGORIES:Akershus
ATTACH;FMTTYPE=image/jpeg:https://medlem.hanen.no/wp-content/uploads/2015/05/Skjermbilde1.jpg
ORGANIZER;CN="Bamsrudl%C3%A5ven":MAILTO:info@bamsrudlaven.no
END:VEVENT
END:VCALENDAR