BEGIN:VCALENDAR
VERSION:2.0
PRODID:-//HANEN - ECPv4.3.2//NONSGML v1.0//EN
CALSCALE:GREGORIAN
METHOD:PUBLISH
X-WR-CALNAME:HANEN
X-ORIGINAL-URL:https://medlem.hanen.no
X-WR-CALDESC:Events for HANEN
BEGIN:VEVENT
DTSTART;TZID=Europe/Oslo:20180806T100000
DTEND;TZID=Europe/Oslo:20180826T180000
DTSTAMP:20260420T084055
CREATED:20180806T115002Z
LAST-MODIFIED:20180806T115146Z
UID:22240-1533549600-1535306400@medlem.hanen.no
SUMMARY:1\, 2\, 3 og 4 timers turer med Venabustallen
DESCRIPTION:Rideturer på Venanbygdsfjellet med stødige dølahester!\nVenabustallen arrangerer rideturer daglig. Vi har turer for alle nivå\, og hjelper deg gjerne med å finne den turen som passer deg og din familie best.\n\nLes mer om våre turer på http://www.venabustallen.no/rideturer-instruksjon-leierunder/\n\nSpørsmål? Vi hjelper deg gjerne!\npost@venabustallen.no // tlf 9221 3456\n\n \n\nLes mer om våre turer her
URL:https://medlem.hanen.no/arrangement/1-2-3-og-4-timers-turer-med-venabustallen/
LOCATION:Venabygd\, Oppland\, 2632\, Norge
GEO:61.593088;10.0523544
CATEGORIES:Oppland
ATTACH;FMTTYPE=image/jpeg:https://medlem.hanen.no/wp-content/uploads/2018/08/hest1.jpg
ORGANIZER;CN="Venabu%20Fjellhotell":MAILTO:venabu@venabu.no
END:VEVENT
END:VCALENDAR